BEGIN:VCALENDAR
VERSION:2.0
PRODID:-//Tukios.com/
BEGIN:VEVENT
UID:8391a52d-60e5-4ffd-8555-ba68fa450c6e@www.sonzinimortuary.com
DTSTAMP:20260420T053139Z
DTSTART:20270512T113000Z
DTEND:20270512T123000Z
SUMMARY:Visitation
DESCRIPTION:
URL:https://www.sonzinimortuary.com/obituaries/jim-smith
LOCATION: 2326 E Washington Blvd  Ogden UT 84409
GEO:41.2240544;-111.9698081
END:VEVENT
END:VCALENDAR